BEGIN:VCALENDAR
VERSION:2.0
PRODID:-//Tukios.com/
BEGIN:VEVENT
UID:a0747a98-91cf-49ac-8d57-1f4afb4f7404@www.nljonesandsons.com
DTSTAMP:20260424T030312Z
DTSTART:20260427T190000Z
DTEND:20260427T200000Z
SUMMARY:Celebration of Life
DESCRIPTION:
URL:https://www.nljonesandsons.com/obituaries/william-edwards
LOCATION:Richmond Pentecostal Church 108 Co Rd 806  Tupelo MS 38804
GEO:34.1929285;-88.5589754
END:VEVENT
END:VCALENDAR