BEGIN:VCALENDAR
VERSION:2.0
PRODID:-//Tukios.com/
BEGIN:VEVENT
UID:b81faa53-82ad-49cd-8fb2-bd0de206253f@www.nljonesandsons.com
DTSTAMP:20260424T030556Z
DTSTART:20260427T180000Z
DTEND:20260427T190000Z
SUMMARY:Viewing
DESCRIPTION:
URL:https://www.nljonesandsons.com/obituaries/william-edwards
LOCATION:Richmond Pentecostal Church 108 Co Rd 806  Tupelo MS 38804
GEO:34.1929285;-88.5589754
END:VEVENT
END:VCALENDAR